BEGIN:VCALENDAR
VERSION:2.0
PRODID:-//I.M.Lys - ECPv6.15.20//NONSGML v1.0//EN
CALSCALE:GREGORIAN
METHOD:PUBLISH
X-ORIGINAL-URL:https://imlys.nl
X-WR-CALDESC:Evenementen voor I.M.Lys
REFRESH-INTERVAL;VALUE=DURATION:PT1H
X-Robots-Tag:noindex
X-PUBLISHED-TTL:PT1H
BEGIN:VTIMEZONE
TZID:UTC
BEGIN:STANDARD
TZOFFSETFROM:+0000
TZOFFSETTO:+0000
TZNAME:UTC
DTSTART:20250101T000000
END:STANDARD
END:VTIMEZONE
BEGIN:VEVENT
DTSTART;TZID=UTC:20260501T100000
DTEND;TZID=UTC:20260501T160000
DTSTAMP:20260422T114225
CREATED:20260412T192808Z
LAST-MODIFIED:20260412T192808Z
UID:8344-1777629600-1777651200@imlys.nl
SUMMARY:Jewelry Café
DESCRIPTION:
URL:https://imlys.nl/event/jewelry-cafe-100/
LOCATION:Lys. Creative Concept Store\, Beekstraat 22B\, Apeldoorn\, Gelderland\, 7311 LG
CATEGORIES:Jewelry Café
ORGANIZER;CN="Elysia":MAILTO:info@imlys.nl
END:VEVENT
BEGIN:VEVENT
DTSTART;TZID=UTC:20260502T100000
DTEND;TZID=UTC:20260502T160000
DTSTAMP:20260422T114225
CREATED:20260412T192906Z
LAST-MODIFIED:20260412T192906Z
UID:8346-1777716000-1777737600@imlys.nl
SUMMARY:Jewelry Café
DESCRIPTION:
URL:https://imlys.nl/event/jewelry-cafe-101/
LOCATION:Lys. Creative Concept Store\, Beekstraat 22B\, Apeldoorn\, Gelderland\, 7311 LG
CATEGORIES:Jewelry Café
END:VEVENT
BEGIN:VEVENT
DTSTART;TZID=UTC:20260506T100000
DTEND;TZID=UTC:20260506T160000
DTSTAMP:20260422T114225
CREATED:20260412T192954Z
LAST-MODIFIED:20260412T192954Z
UID:8348-1778061600-1778083200@imlys.nl
SUMMARY:Jewelry Café
DESCRIPTION:
URL:https://imlys.nl/event/jewelry-cafe-102/
LOCATION:Lys. Creative Concept Store\, Beekstraat 22B\, Apeldoorn\, Gelderland\, 7311 LG
CATEGORIES:Jewelry Café
ORGANIZER;CN="Elysia":MAILTO:info@imlys.nl
END:VEVENT
BEGIN:VEVENT
DTSTART;VALUE=DATE:20260508
DTEND;VALUE=DATE:20260509
DTSTAMP:20260422T114225
CREATED:20260412T193037Z
LAST-MODIFIED:20260412T193050Z
UID:8350-1778198400-1778284799@imlys.nl
SUMMARY:Cupcake Café | Workshop Special by Cherries on Top
DESCRIPTION:
URL:https://imlys.nl/event/cupcake-cafe-workshop-special-by-cherries-on-top/
LOCATION:Lys. Creative Concept Store\, Beekstraat 22B\, Apeldoorn\, Gelderland\, 7311 LG
CATEGORIES:Workshops
ORGANIZER;CN="Elysia":MAILTO:info@imlys.nl
END:VEVENT
BEGIN:VEVENT
DTSTART;TZID=UTC:20260513T100000
DTEND;TZID=UTC:20260513T160000
DTSTAMP:20260422T114225
CREATED:20260412T193232Z
LAST-MODIFIED:20260412T193232Z
UID:8354-1778666400-1778688000@imlys.nl
SUMMARY:Jewelry Café
DESCRIPTION:
URL:https://imlys.nl/event/jewelry-cafe-103/
LOCATION:Lys. Creative Concept Store\, Beekstraat 22B\, Apeldoorn\, Gelderland\, 7311 LG
CATEGORIES:Jewelry Café
ORGANIZER;CN="Elysia":MAILTO:info@imlys.nl
END:VEVENT
BEGIN:VEVENT
DTSTART;TZID=UTC:20260515T100000
DTEND;TZID=UTC:20260515T160000
DTSTAMP:20260422T114225
CREATED:20260412T193328Z
LAST-MODIFIED:20260412T193328Z
UID:8356-1778839200-1778860800@imlys.nl
SUMMARY:Jewelry Café
DESCRIPTION:
URL:https://imlys.nl/event/jewelry-cafe-104/
LOCATION:Lys. Creative Concept Store\, Beekstraat 22B\, Apeldoorn\, Gelderland\, 7311 LG
CATEGORIES:Jewelry Café
ORGANIZER;CN="Elysia":MAILTO:info@imlys.nl
END:VEVENT
BEGIN:VEVENT
DTSTART;TZID=UTC:20260516T100000
DTEND;TZID=UTC:20260516T160000
DTSTAMP:20260422T114225
CREATED:20260412T193405Z
LAST-MODIFIED:20260412T193405Z
UID:8358-1778925600-1778947200@imlys.nl
SUMMARY:Jewelry Café
DESCRIPTION:
URL:https://imlys.nl/event/jewelry-cafe-105/
LOCATION:Lys. Creative Concept Store\, Beekstraat 22B\, Apeldoorn\, Gelderland\, 7311 LG
CATEGORIES:Jewelry Café
ORGANIZER;CN="Elysia":MAILTO:info@imlys.nl
END:VEVENT
BEGIN:VEVENT
DTSTART;TZID=UTC:20260520T100000
DTEND;TZID=UTC:20260520T160000
DTSTAMP:20260422T114225
CREATED:20260412T193445Z
LAST-MODIFIED:20260412T193445Z
UID:8360-1779271200-1779292800@imlys.nl
SUMMARY:Jewelry Café
DESCRIPTION:
URL:https://imlys.nl/event/jewelry-cafe-106/
LOCATION:Lys. Creative Concept Store\, Beekstraat 22B\, Apeldoorn\, Gelderland\, 7311 LG
CATEGORIES:Jewelry Café
ORGANIZER;CN="Elysia":MAILTO:info@imlys.nl
END:VEVENT
BEGIN:VEVENT
DTSTART;TZID=UTC:20260521T100000
DTEND;TZID=UTC:20260521T160000
DTSTAMP:20260422T114225
CREATED:20260412T193525Z
LAST-MODIFIED:20260412T193525Z
UID:8362-1779357600-1779379200@imlys.nl
SUMMARY:Jewelry Café
DESCRIPTION:
URL:https://imlys.nl/event/jewelry-cafe-107/
LOCATION:Lys. Creative Concept Store\, Beekstraat 22B\, Apeldoorn\, Gelderland\, 7311 LG
CATEGORIES:Jewelry Café
ORGANIZER;CN="Elysia":MAILTO:info@imlys.nl
END:VEVENT
BEGIN:VEVENT
DTSTART;TZID=UTC:20260522T100000
DTEND;TZID=UTC:20260522T160000
DTSTAMP:20260422T114225
CREATED:20260412T193604Z
LAST-MODIFIED:20260412T193604Z
UID:8364-1779444000-1779465600@imlys.nl
SUMMARY:Jewelry Café
DESCRIPTION:
URL:https://imlys.nl/event/jewelry-cafe-108/
LOCATION:Lys. Creative Concept Store\, Beekstraat 22B\, Apeldoorn\, Gelderland\, 7311 LG
CATEGORIES:Jewelry Café
ORGANIZER;CN="Elysia":MAILTO:info@imlys.nl
END:VEVENT
BEGIN:VEVENT
DTSTART;TZID=UTC:20260523T100000
DTEND;TZID=UTC:20260523T160000
DTSTAMP:20260422T114225
CREATED:20260412T193639Z
LAST-MODIFIED:20260412T193708Z
UID:8366-1779530400-1779552000@imlys.nl
SUMMARY:Jewelry Café
DESCRIPTION:
URL:https://imlys.nl/event/jewelry-cafe-109/
LOCATION:Lys. Creative Concept Store\, Beekstraat 22B\, Apeldoorn\, Gelderland\, 7311 LG
CATEGORIES:Jewelry Café
ORGANIZER;CN="Elysia":MAILTO:info@imlys.nl
END:VEVENT
BEGIN:VEVENT
DTSTART;TZID=UTC:20260527T143000
DTEND;TZID=UTC:20260527T170000
DTSTAMP:20260422T114225
CREATED:20260412T193806Z
LAST-MODIFIED:20260412T194153Z
UID:8368-1779892200-1779901200@imlys.nl
SUMMARY:Kinderfeestje
DESCRIPTION:
URL:https://imlys.nl/event/kinderfeestje-21/
LOCATION:Lys. Creative Concept Store\, Beekstraat 22B\, Apeldoorn\, Gelderland\, 7311 LG
CATEGORIES:Workshops
END:VEVENT
END:VCALENDAR