BEGIN:VCALENDAR
VERSION:2.0
PRODID:-//I.M.Lys - ECPv6.15.20//NONSGML v1.0//EN
CALSCALE:GREGORIAN
METHOD:PUBLISH
X-WR-CALNAME:I.M.Lys
X-ORIGINAL-URL:https://imlys.nl
X-WR-CALDESC:Evenementen voor I.M.Lys
REFRESH-INTERVAL;VALUE=DURATION:PT1H
X-Robots-Tag:noindex
X-PUBLISHED-TTL:PT1H
BEGIN:VTIMEZONE
TZID:Europe/Amsterdam
BEGIN:DAYLIGHT
TZOFFSETFROM:+0100
TZOFFSETTO:+0200
TZNAME:CEST
DTSTART:20240331T010000
END:DAYLIGHT
BEGIN:STANDARD
TZOFFSETFROM:+0200
TZOFFSETTO:+0100
TZNAME:CET
DTSTART:20241027T010000
END:STANDARD
BEGIN:DAYLIGHT
TZOFFSETFROM:+0100
TZOFFSETTO:+0200
TZNAME:CEST
DTSTART:20250330T010000
END:DAYLIGHT
BEGIN:STANDARD
TZOFFSETFROM:+0200
TZOFFSETTO:+0100
TZNAME:CET
DTSTART:20251026T010000
END:STANDARD
BEGIN:DAYLIGHT
TZOFFSETFROM:+0100
TZOFFSETTO:+0200
TZNAME:CEST
DTSTART:20260329T010000
END:DAYLIGHT
BEGIN:STANDARD
TZOFFSETFROM:+0200
TZOFFSETTO:+0100
TZNAME:CET
DTSTART:20261025T010000
END:STANDARD
END:VTIMEZONE
BEGIN:VEVENT
DTSTART;TZID=Europe/Amsterdam:20251203T093000
DTEND;TZID=Europe/Amsterdam:20251203T170000
DTSTAMP:20260422T212644
CREATED:20251130T083855Z
LAST-MODIFIED:20251130T083916Z
UID:7042-1764754200-1764781200@imlys.nl
SUMMARY:Jewelry Café
DESCRIPTION:
URL:https://imlys.nl/event/jewelry-cafe-56/
LOCATION:Lys. Creative Concept Store\, Beekstraat 22B\, Apeldoorn\, Gelderland\, 7311 LG
CATEGORIES:Jewelry Café
ORGANIZER;CN="Elysia":MAILTO:info@imlys.nl
END:VEVENT
BEGIN:VEVENT
DTSTART;TZID=Europe/Amsterdam:20251204T190000
DTEND;TZID=Europe/Amsterdam:20251204T210000
DTSTAMP:20260422T212644
CREATED:20251130T084006Z
LAST-MODIFIED:20251130T084113Z
UID:7044-1764874800-1764882000@imlys.nl
SUMMARY:Extra koopavond & privé Jewelry Café
DESCRIPTION:
URL:https://imlys.nl/event/extra-koopavond-prive-jewelry-cafe/
LOCATION:Lys. Creative Concept Store\, Beekstraat 22B\, Apeldoorn\, Gelderland\, 7311 LG
CATEGORIES:Jewelry Café
ORGANIZER;CN="Elysia":MAILTO:info@imlys.nl
END:VEVENT
BEGIN:VEVENT
DTSTART;TZID=Europe/Amsterdam:20251206T100000
DTEND;TZID=Europe/Amsterdam:20251206T160000
DTSTAMP:20260422T212644
CREATED:20251021T143257Z
LAST-MODIFIED:20251021T143257Z
UID:6769-1765015200-1765036800@imlys.nl
SUMMARY:Jewelry Café (VOL)
DESCRIPTION:
URL:https://imlys.nl/event/jewelry-cafe-vol/
LOCATION:Lys. Creative Concept Store\, Beekstraat 22B\, Apeldoorn\, Gelderland\, 7311 LG
CATEGORIES:Jewelry Café
ORGANIZER;CN="Elysia":MAILTO:info@imlys.nl
END:VEVENT
BEGIN:VEVENT
DTSTART;TZID=Europe/Amsterdam:20251207T130000
DTEND;TZID=Europe/Amsterdam:20251207T153000
DTSTAMP:20260422T212644
CREATED:20250723T091308Z
LAST-MODIFIED:20250723T091308Z
UID:6005-1765112400-1765121400@imlys.nl
SUMMARY:Workshop 'Verhalen Rijgen'
DESCRIPTION:
URL:https://imlys.nl/event/workshop-verhalen-rijgen-5/
LOCATION:Lys. Creative Concept Store\, Beekstraat 22B\, Apeldoorn\, Gelderland\, 7311 LG
CATEGORIES:Workshops
ORGANIZER;CN="Elysia":MAILTO:info@imlys.nl
END:VEVENT
BEGIN:VEVENT
DTSTART;TZID=Europe/Amsterdam:20251210T103000
DTEND;TZID=Europe/Amsterdam:20251210T130000
DTSTAMP:20260422T212644
CREATED:20250723T100952Z
LAST-MODIFIED:20250723T100952Z
UID:6021-1765362600-1765371600@imlys.nl
SUMMARY:Workshop 'Jesmonite'
DESCRIPTION:
URL:https://imlys.nl/event/workshop-jesmonite-9/
LOCATION:Lys. Creative Concept Store\, Beekstraat 22B\, Apeldoorn\, Gelderland\, 7311 LG
CATEGORIES:Workshops
ORGANIZER;CN="Elysia":MAILTO:info@imlys.nl
END:VEVENT
BEGIN:VEVENT
DTSTART;TZID=Europe/Amsterdam:20251213T100000
DTEND;TZID=Europe/Amsterdam:20251214T170000
DTSTAMP:20260422T212644
CREATED:20251014T075108Z
LAST-MODIFIED:20251014T075109Z
UID:6727-1765620000-1765731600@imlys.nl
SUMMARY:Kerstmarkt & Meer @ Lys.
DESCRIPTION:
URL:https://imlys.nl/event/kerstmarkt-meer-lys/
LOCATION:Lys. Creative Concept Store\, Beekstraat 22B\, Apeldoorn\, Gelderland\, 7311 LG
CATEGORIES:Specials
ORGANIZER;CN="Elysia":MAILTO:info@imlys.nl
END:VEVENT
BEGIN:VEVENT
DTSTART;TZID=Europe/Amsterdam:20251219T100000
DTEND;TZID=Europe/Amsterdam:20251219T170000
DTSTAMP:20260422T212644
CREATED:20251218T154112Z
LAST-MODIFIED:20251218T155210Z
UID:7068-1766138400-1766163600@imlys.nl
SUMMARY:Jewelry Café (ochtend vrij\, middag vol)
DESCRIPTION:
URL:https://imlys.nl/event/jewelry-cafe-middag-vol/
LOCATION:Lys. Creative Concept Store\, Beekstraat 22B\, Apeldoorn\, Gelderland\, 7311 LG
ORGANIZER;CN="Elysia":MAILTO:info@imlys.nl
END:VEVENT
BEGIN:VEVENT
DTSTART;TZID=Europe/Amsterdam:20251220T100000
DTEND;TZID=Europe/Amsterdam:20251220T160000
DTSTAMP:20260422T212644
CREATED:20251218T154215Z
LAST-MODIFIED:20251218T154215Z
UID:7070-1766224800-1766246400@imlys.nl
SUMMARY:Jewelry Café (ochtend nog 3 plekken\, middag vol)
DESCRIPTION:
URL:https://imlys.nl/event/jewelry-cafe-ochtend-nog-3-plekken-middag-vol/
LOCATION:Lys. Creative Concept Store\, Beekstraat 22B\, Apeldoorn\, Gelderland\, 7311 LG
ORGANIZER;CN="Elysia":MAILTO:info@imlys.nl
END:VEVENT
BEGIN:VEVENT
DTSTART;TZID=Europe/Amsterdam:20251221T130000
DTEND;TZID=Europe/Amsterdam:20251221T170000
DTSTAMP:20260422T212644
CREATED:20251218T154258Z
LAST-MODIFIED:20251218T154543Z
UID:7072-1766322000-1766336400@imlys.nl
SUMMARY:Extra open & Jewelry Café (VOL)
DESCRIPTION:
URL:https://imlys.nl/event/jewelry-cafe-vol-3/
LOCATION:Lys. Creative Concept Store\, Beekstraat 22B\, Apeldoorn\, Gelderland\, 7311 LG
ORGANIZER;CN="Elysia":MAILTO:info@imlys.nl
END:VEVENT
BEGIN:VEVENT
DTSTART;TZID=Europe/Amsterdam:20251222T100000
DTEND;TZID=Europe/Amsterdam:20251222T170000
DTSTAMP:20260422T212644
CREATED:20251218T154403Z
LAST-MODIFIED:20251222T090654Z
UID:7074-1766397600-1766422800@imlys.nl
SUMMARY:Winkel extra open & Jewelry Café
DESCRIPTION:Caf
URL:https://imlys.nl/event/extra-open-jewelry-cafe/
LOCATION:Lys. Creative Concept Store\, Beekstraat 22B\, Apeldoorn\, Gelderland\, 7311 LG
ORGANIZER;CN="Elysia":MAILTO:info@imlys.nl
END:VEVENT
BEGIN:VEVENT
DTSTART;TZID=Europe/Amsterdam:20251223T100000
DTEND;TZID=Europe/Amsterdam:20251223T170000
DTSTAMP:20260422T212644
CREATED:20251218T154445Z
LAST-MODIFIED:20251222T090634Z
UID:7076-1766484000-1766509200@imlys.nl
SUMMARY:Winkel extra open & Jewelry Café (vol)
DESCRIPTION:
URL:https://imlys.nl/event/extra-open-jewelry-cafe-2/
LOCATION:Lys. Creative Concept Store\, Beekstraat 22B\, Apeldoorn\, Gelderland\, 7311 LG
ORGANIZER;CN="Elysia":MAILTO:info@imlys.nl
END:VEVENT
BEGIN:VEVENT
DTSTART;TZID=Europe/Amsterdam:20251227T100000
DTEND;TZID=Europe/Amsterdam:20251227T170000
DTSTAMP:20260422T212644
CREATED:20251218T154520Z
LAST-MODIFIED:20251222T143819Z
UID:7078-1766829600-1766854800@imlys.nl
SUMMARY:Jewelry Café (VOL)
DESCRIPTION:
URL:https://imlys.nl/event/jewelry-cafe-57/
LOCATION:Lys. Creative Concept Store\, Beekstraat 22B\, Apeldoorn\, Gelderland\, 7311 LG
ORGANIZER;CN="Elysia":MAILTO:info@imlys.nl
END:VEVENT
BEGIN:VEVENT
DTSTART;TZID=Europe/Amsterdam:20251229T100000
DTEND;TZID=Europe/Amsterdam:20251229T170000
DTSTAMP:20260422T212644
CREATED:20251218T154748Z
LAST-MODIFIED:20251223T200619Z
UID:7081-1767002400-1767027600@imlys.nl
SUMMARY:Winkel extra open: Workshop Jesmonite (VOL)
DESCRIPTION:Workshop 13:00-15:30 uur
URL:https://imlys.nl/event/extra-open-workshop-jesmonite-nog-twee-plekken/
LOCATION:Lys. Creative Concept Store\, Beekstraat 22B\, Apeldoorn\, Gelderland\, 7311 LG
ORGANIZER;CN="Elysia":MAILTO:info@imlys.nl
END:VEVENT
BEGIN:VEVENT
DTSTART;TZID=Europe/Amsterdam:20251230T100000
DTEND;TZID=Europe/Amsterdam:20251230T170000
DTSTAMP:20260422T212644
CREATED:20251218T154825Z
LAST-MODIFIED:20251223T200644Z
UID:7083-1767088800-1767114000@imlys.nl
SUMMARY:Winkel extra open & Jewelry Café (VOL)
DESCRIPTION:
URL:https://imlys.nl/event/jewelry-cafe-vol-4/
LOCATION:Lys. Creative Concept Store\, Beekstraat 22B\, Apeldoorn\, Gelderland\, 7311 LG
ORGANIZER;CN="Elysia":MAILTO:info@imlys.nl
END:VEVENT
BEGIN:VEVENT
DTSTART;VALUE=DATE:20251231
DTEND;VALUE=DATE:20260101
DTSTAMP:20260422T212644
CREATED:20251218T154933Z
LAST-MODIFIED:20251218T154933Z
UID:7086-1767139200-1767225599@imlys.nl
SUMMARY:Lys. gesloten
DESCRIPTION:
URL:https://imlys.nl/event/lys-gesloten-3/
LOCATION:Lys. Creative Concept Store\, Beekstraat 22B\, Apeldoorn\, Gelderland\, 7311 LG
ORGANIZER;CN="Elysia":MAILTO:info@imlys.nl
END:VEVENT
END:VCALENDAR