BEGIN:VCALENDAR
VERSION:2.0
PRODID:-//I.M.Lys - ECPv6.15.20//NONSGML v1.0//EN
CALSCALE:GREGORIAN
METHOD:PUBLISH
X-ORIGINAL-URL:https://imlys.nl
X-WR-CALDESC:Evenementen voor I.M.Lys
REFRESH-INTERVAL;VALUE=DURATION:PT1H
X-Robots-Tag:noindex
X-PUBLISHED-TTL:PT1H
BEGIN:VTIMEZONE
TZID:Europe/Amsterdam
BEGIN:DAYLIGHT
TZOFFSETFROM:+0100
TZOFFSETTO:+0200
TZNAME:CEST
DTSTART:20240331T010000
END:DAYLIGHT
BEGIN:STANDARD
TZOFFSETFROM:+0200
TZOFFSETTO:+0100
TZNAME:CET
DTSTART:20241027T010000
END:STANDARD
BEGIN:DAYLIGHT
TZOFFSETFROM:+0100
TZOFFSETTO:+0200
TZNAME:CEST
DTSTART:20250330T010000
END:DAYLIGHT
BEGIN:STANDARD
TZOFFSETFROM:+0200
TZOFFSETTO:+0100
TZNAME:CET
DTSTART:20251026T010000
END:STANDARD
BEGIN:DAYLIGHT
TZOFFSETFROM:+0100
TZOFFSETTO:+0200
TZNAME:CEST
DTSTART:20260329T010000
END:DAYLIGHT
BEGIN:STANDARD
TZOFFSETFROM:+0200
TZOFFSETTO:+0100
TZNAME:CET
DTSTART:20261025T010000
END:STANDARD
END:VTIMEZONE
BEGIN:VTIMEZONE
TZID:UTC
BEGIN:STANDARD
TZOFFSETFROM:+0000
TZOFFSETTO:+0000
TZNAME:UTC
DTSTART:20240101T000000
END:STANDARD
END:VTIMEZONE
BEGIN:VEVENT
DTSTART;TZID=Europe/Amsterdam:20250603T100000
DTEND;TZID=Europe/Amsterdam:20250603T140000
DTSTAMP:20260423T192651
CREATED:20250326T102900Z
LAST-MODIFIED:20250531T183944Z
UID:5504-1748944800-1748959200@imlys.nl
SUMMARY:Motivation Tuesday
DESCRIPTION:
URL:https://imlys.nl/event/motivation-tuesday-3/
LOCATION:Lys. Creative Concept Store\, Beekstraat 22B\, Apeldoorn\, Gelderland\, 7311 LG
CATEGORIES:Motivation Tuesday
ORGANIZER;CN="Elysia":MAILTO:info@imlys.nl
END:VEVENT
BEGIN:VEVENT
DTSTART;TZID=UTC:20250604T130000
DTEND;TZID=UTC:20250604T170000
DTSTAMP:20260423T192651
CREATED:20250523T085512Z
LAST-MODIFIED:20250523T085512Z
UID:5729-1749042000-1749056400@imlys.nl
SUMMARY:Kinderfeestje (winkel hele dag open)
DESCRIPTION:
URL:https://imlys.nl/event/kinderfeestje-winkel-hele-dag-open-6/
LOCATION:Lys. Creative Concept Store\, Beekstraat 22B\, Apeldoorn\, Gelderland\, 7311 LG
CATEGORIES:Workshops
ORGANIZER;CN="Elysia":MAILTO:info@imlys.nl
END:VEVENT
BEGIN:VEVENT
DTSTART;TZID=UTC:20250605T100000
DTEND;TZID=UTC:20250605T140000
DTSTAMP:20260423T192651
CREATED:20250523T085619Z
LAST-MODIFIED:20250523T085619Z
UID:5731-1749117600-1749132000@imlys.nl
SUMMARY:Jewelry Café
DESCRIPTION:
URL:https://imlys.nl/event/jewelry-cafe-14/
LOCATION:Lys. Creative Concept Store\, Beekstraat 22B\, Apeldoorn\, Gelderland\, 7311 LG
CATEGORIES:Jewelry Café
ORGANIZER;CN="Elysia":MAILTO:info@imlys.nl
END:VEVENT
BEGIN:VEVENT
DTSTART;TZID=UTC:20250606T100000
DTEND;TZID=UTC:20250606T170000
DTSTAMP:20260423T192651
CREATED:20250523T085707Z
LAST-MODIFIED:20250523T085707Z
UID:5733-1749204000-1749229200@imlys.nl
SUMMARY:Jewelry Café
DESCRIPTION:
URL:https://imlys.nl/event/jewelry-cafe-15/
LOCATION:Lys. Creative Concept Store\, Beekstraat 22B\, Apeldoorn\, Gelderland\, 7311 LG
CATEGORIES:Jewelry Café
ORGANIZER;CN="Elysia":MAILTO:info@imlys.nl
END:VEVENT
BEGIN:VEVENT
DTSTART;TZID=Europe/Amsterdam:20250607T103000
DTEND;TZID=Europe/Amsterdam:20250607T130000
DTSTAMP:20260423T192651
CREATED:20250513T193727Z
LAST-MODIFIED:20250513T193727Z
UID:5706-1749292200-1749301200@imlys.nl
SUMMARY:Workshop Jesmonite (VOL)
DESCRIPTION:
URL:https://imlys.nl/event/workshop-jesmonite-vol/
LOCATION:Lys. Creative Concept Store\, Beekstraat 22B\, Apeldoorn\, Gelderland\, 7311 LG
CATEGORIES:Workshops
ORGANIZER;CN="Elysia":MAILTO:info@imlys.nl
END:VEVENT
BEGIN:VEVENT
DTSTART;TZID=UTC:20250610T080000
DTEND;TZID=UTC:20250610T170000
DTSTAMP:20260423T192651
CREATED:20250523T085847Z
LAST-MODIFIED:20250523T085847Z
UID:5735-1749542400-1749574800@imlys.nl
SUMMARY:Jewelry Café
DESCRIPTION:
URL:https://imlys.nl/event/jewelry-cafe-16/
LOCATION:Lys. Creative Concept Store\, Beekstraat 22B\, Apeldoorn\, Gelderland\, 7311 LG
CATEGORIES:Jewelry Café
ORGANIZER;CN="Elysia":MAILTO:info@imlys.nl
END:VEVENT
BEGIN:VEVENT
DTSTART;TZID=UTC:20250611T140000
DTEND;TZID=UTC:20250611T170000
DTSTAMP:20260423T192651
CREATED:20250523T085925Z
LAST-MODIFIED:20250605T080507Z
UID:5737-1749650400-1749661200@imlys.nl
SUMMARY:Kinderfeestje (winkel hele dag open)
DESCRIPTION:
URL:https://imlys.nl/event/jewelry-cafe-17/
LOCATION:Lys. Creative Concept Store\, Beekstraat 22B\, Apeldoorn\, Gelderland\, 7311 LG
CATEGORIES:Workshops
ORGANIZER;CN="Elysia":MAILTO:info@imlys.nl
END:VEVENT
BEGIN:VEVENT
DTSTART;TZID=UTC:20250612T100000
DTEND;TZID=UTC:20250612T130000
DTSTAMP:20260423T192651
CREATED:20250523T090019Z
LAST-MODIFIED:20250523T090019Z
UID:5739-1749722400-1749733200@imlys.nl
SUMMARY:Jewelry Café
DESCRIPTION:
URL:https://imlys.nl/event/jewelry-cafe-18/
LOCATION:Lys. Creative Concept Store\, Beekstraat 22B\, Apeldoorn\, Gelderland\, 7311 LG
CATEGORIES:Jewelry Café
ORGANIZER;CN="Elysia":MAILTO:info@imlys.nl
END:VEVENT
BEGIN:VEVENT
DTSTART;TZID=UTC:20250613T130000
DTEND;TZID=UTC:20250613T170000
DTSTAMP:20260423T192651
CREATED:20250523T090136Z
LAST-MODIFIED:20250601T082313Z
UID:5741-1749819600-1749834000@imlys.nl
SUMMARY:Jewelry Café
DESCRIPTION:
URL:https://imlys.nl/event/jewelry-cafe-19/
LOCATION:Lys. Creative Concept Store\, Beekstraat 22B\, Apeldoorn\, Gelderland\, 7311 LG
CATEGORIES:Jewelry Café
ORGANIZER;CN="Elysia":MAILTO:info@imlys.nl
END:VEVENT
BEGIN:VEVENT
DTSTART;TZID=Europe/Amsterdam:20250614T103000
DTEND;TZID=Europe/Amsterdam:20250614T130000
DTSTAMP:20260423T192651
CREATED:20250513T193839Z
LAST-MODIFIED:20250601T082150Z
UID:5708-1749897000-1749906000@imlys.nl
SUMMARY:Kinderfeestje (winkel hele dag open)
DESCRIPTION:
URL:https://imlys.nl/event/kinderfeestje-winkel-wel-open/
LOCATION:Lys. Creative Concept Store\, Beekstraat 22B\, Apeldoorn\, Gelderland\, 7311 LG
CATEGORIES:Workshops
ORGANIZER;CN="Elysia":MAILTO:info@imlys.nl
END:VEVENT
BEGIN:VEVENT
DTSTART;TZID=Europe/Amsterdam:20250614T130000
DTEND;TZID=Europe/Amsterdam:20250614T170000
DTSTAMP:20260423T192651
CREATED:20250601T082242Z
LAST-MODIFIED:20250601T082242Z
UID:5765-1749906000-1749920400@imlys.nl
SUMMARY:Jewelry Café
DESCRIPTION:
URL:https://imlys.nl/event/jewelry-cafe-20/
LOCATION:Lys. Creative Concept Store\, Beekstraat 22B\, Apeldoorn\, Gelderland\, 7311 LG
CATEGORIES:Jewelry Café
ORGANIZER;CN="Elysia":MAILTO:info@imlys.nl
END:VEVENT
BEGIN:VEVENT
DTSTART;TZID=Europe/Amsterdam:20250617T100000
DTEND;TZID=Europe/Amsterdam:20250617T140000
DTSTAMP:20260423T192651
CREATED:20250601T082446Z
LAST-MODIFIED:20250601T082446Z
UID:5767-1750154400-1750168800@imlys.nl
SUMMARY:Jewelry Café
DESCRIPTION:
URL:https://imlys.nl/event/jewelry-cafe-21/
LOCATION:Lys. Creative Concept Store\, Beekstraat 22B\, Apeldoorn\, Gelderland\, 7311 LG
CATEGORIES:Jewelry Café
ORGANIZER;CN="Elysia":MAILTO:info@imlys.nl
END:VEVENT
BEGIN:VEVENT
DTSTART;TZID=Europe/Amsterdam:20250618T130000
DTEND;TZID=Europe/Amsterdam:20250618T153000
DTSTAMP:20260423T192651
CREATED:20250513T194626Z
LAST-MODIFIED:20250513T194626Z
UID:5711-1750251600-1750260600@imlys.nl
SUMMARY:Kinderfeestje (winkel hele dag open)
DESCRIPTION:
URL:https://imlys.nl/event/kinderfeestje-winkel-hele-dag-open-5/
LOCATION:Lys. Creative Concept Store\, Beekstraat 22B\, Apeldoorn\, Gelderland\, 7311 LG
CATEGORIES:Workshops
ORGANIZER;CN="Elysia":MAILTO:info@imlys.nl
END:VEVENT
BEGIN:VEVENT
DTSTART;TZID=Europe/Amsterdam:20250619T100000
DTEND;TZID=Europe/Amsterdam:20250619T140000
DTSTAMP:20260423T192651
CREATED:20250601T082602Z
LAST-MODIFIED:20250601T082643Z
UID:5769-1750327200-1750341600@imlys.nl
SUMMARY:Jewelry Café
DESCRIPTION:
URL:https://imlys.nl/event/jewelry-cafe-22/
LOCATION:Lys. Creative Concept Store\, Beekstraat 22B\, Apeldoorn\, Gelderland\, 7311 LG
CATEGORIES:Jewelry Café
ORGANIZER;CN="Elysia":MAILTO:info@imlys.nl
END:VEVENT
BEGIN:VEVENT
DTSTART;TZID=Europe/Amsterdam:20250620T103000
DTEND;TZID=Europe/Amsterdam:20250620T130000
DTSTAMP:20260423T192651
CREATED:20250326T103108Z
LAST-MODIFIED:20250423T175637Z
UID:5508-1750415400-1750424400@imlys.nl
SUMMARY:Workshop Jesmonite
DESCRIPTION:
URL:https://imlys.nl/event/workshop-jesmonite-2/
LOCATION:Lys. Creative Concept Store\, Beekstraat 22B\, Apeldoorn\, Gelderland\, 7311 LG
CATEGORIES:Workshops
ORGANIZER;CN="Elysia":MAILTO:info@imlys.nl
END:VEVENT
BEGIN:VEVENT
DTSTART;TZID=Europe/Amsterdam:20250621T100000
DTEND;TZID=Europe/Amsterdam:20250621T170000
DTSTAMP:20260423T192651
CREATED:20250601T082841Z
LAST-MODIFIED:20250601T082841Z
UID:5771-1750500000-1750525200@imlys.nl
SUMMARY:Jewelry Café
DESCRIPTION:
URL:https://imlys.nl/event/jewelry-cafe-23/
LOCATION:Lys. Creative Concept Store\, Beekstraat 22B\, Apeldoorn\, Gelderland\, 7311 LG
CATEGORIES:Jewelry Café
ORGANIZER;CN="Elysia":MAILTO:info@imlys.nl
END:VEVENT
BEGIN:VEVENT
DTSTART;TZID=Europe/Amsterdam:20250625T100000
DTEND;TZID=Europe/Amsterdam:20250625T170000
DTSTAMP:20260423T192651
CREATED:20250601T083319Z
LAST-MODIFIED:20250601T083332Z
UID:5773-1750845600-1750870800@imlys.nl
SUMMARY:Jewelry Café
DESCRIPTION:
URL:https://imlys.nl/event/jewelry-cafe-24/
LOCATION:Lys. Creative Concept Store\, Beekstraat 22B\, Apeldoorn\, Gelderland\, 7311 LG
CATEGORIES:Jewelry Café
ORGANIZER;CN="Elysia":MAILTO:info@imlys.nl
END:VEVENT
BEGIN:VEVENT
DTSTART;TZID=Europe/Amsterdam:20250625T123000
DTEND;TZID=Europe/Amsterdam:20250625T170000
DTSTAMP:20260423T192651
CREATED:20250625T143336Z
LAST-MODIFIED:20250625T143445Z
UID:5838-1750854600-1750870800@imlys.nl
SUMMARY:Kinderfeestje (winkel hele dag open)
DESCRIPTION:
URL:https://imlys.nl/event/kinderfeestje-winkel-hele-dag-open-9/
LOCATION:Lys. Creative Concept Store\, Beekstraat 22B\, Apeldoorn\, Gelderland\, 7311 LG
CATEGORIES:Workshops
ORGANIZER;CN="Elysia":MAILTO:info@imlys.nl
END:VEVENT
BEGIN:VEVENT
DTSTART;TZID=Europe/Amsterdam:20250626T100000
DTEND;TZID=Europe/Amsterdam:20250626T140000
DTSTAMP:20260423T192651
CREATED:20250601T083410Z
LAST-MODIFIED:20250601T083410Z
UID:5775-1750932000-1750946400@imlys.nl
SUMMARY:Jewelry Café
DESCRIPTION:
URL:https://imlys.nl/event/jewelry-cafe-25/
LOCATION:Lys. Creative Concept Store\, Beekstraat 22B\, Apeldoorn\, Gelderland\, 7311 LG
CATEGORIES:Jewelry Café
ORGANIZER;CN="Elysia":MAILTO:info@imlys.nl
END:VEVENT
BEGIN:VEVENT
DTSTART;TZID=Europe/Amsterdam:20250627T100000
DTEND;TZID=Europe/Amsterdam:20250627T130000
DTSTAMP:20260423T192651
CREATED:20250601T083547Z
LAST-MODIFIED:20250601T083547Z
UID:5777-1751018400-1751029200@imlys.nl
SUMMARY:Creative Friday
DESCRIPTION:
URL:https://imlys.nl/event/creative-friday/
LOCATION:Lys. Creative Concept Store\, Beekstraat 22B\, Apeldoorn\, Gelderland\, 7311 LG
CATEGORIES:Creative Friday
ORGANIZER;CN="Elysia":MAILTO:info@imlys.nl
END:VEVENT
BEGIN:VEVENT
DTSTART;TZID=Europe/Amsterdam:20250627T130000
DTEND;TZID=Europe/Amsterdam:20250627T170000
DTSTAMP:20260423T192651
CREATED:20250601T083621Z
LAST-MODIFIED:20250601T083621Z
UID:5779-1751029200-1751043600@imlys.nl
SUMMARY:Jewelry Café
DESCRIPTION:
URL:https://imlys.nl/event/jewelry-cafe-26/
LOCATION:Lys. Creative Concept Store\, Beekstraat 22B\, Apeldoorn\, Gelderland\, 7311 LG
CATEGORIES:Jewelry Café
ORGANIZER;CN="Elysia":MAILTO:info@imlys.nl
END:VEVENT
BEGIN:VEVENT
DTSTART;TZID=Europe/Amsterdam:20250628T140000
DTEND;TZID=Europe/Amsterdam:20250628T170000
DTSTAMP:20260423T192651
CREATED:20250605T080753Z
LAST-MODIFIED:20250605T080753Z
UID:5792-1751119200-1751130000@imlys.nl
SUMMARY:Kinderfeestje (winkel hele dag open)
DESCRIPTION:
URL:https://imlys.nl/event/kinderfeestje-winkel-hele-dag-open-8/
LOCATION:Lys. Creative Concept Store\, Beekstraat 22B\, Apeldoorn\, Gelderland\, 7311 LG
CATEGORIES:Workshops
ORGANIZER;CN="Elysia":MAILTO:info@imlys.nl
END:VEVENT
END:VCALENDAR