BEGIN:VCALENDAR
VERSION:2.0
PRODID:-//I.M.Lys - ECPv6.15.20//NONSGML v1.0//EN
CALSCALE:GREGORIAN
METHOD:PUBLISH
X-WR-CALNAME:I.M.Lys
X-ORIGINAL-URL:https://imlys.nl
X-WR-CALDESC:Evenementen voor I.M.Lys
REFRESH-INTERVAL;VALUE=DURATION:PT1H
X-Robots-Tag:noindex
X-PUBLISHED-TTL:PT1H
BEGIN:VTIMEZONE
TZID:UTC
BEGIN:STANDARD
TZOFFSETFROM:+0000
TZOFFSETTO:+0000
TZNAME:UTC
DTSTART:20240101T000000
END:STANDARD
END:VTIMEZONE
BEGIN:VTIMEZONE
TZID:Europe/Amsterdam
BEGIN:DAYLIGHT
TZOFFSETFROM:+0100
TZOFFSETTO:+0200
TZNAME:CEST
DTSTART:20240331T010000
END:DAYLIGHT
BEGIN:STANDARD
TZOFFSETFROM:+0200
TZOFFSETTO:+0100
TZNAME:CET
DTSTART:20241027T010000
END:STANDARD
BEGIN:DAYLIGHT
TZOFFSETFROM:+0100
TZOFFSETTO:+0200
TZNAME:CEST
DTSTART:20250330T010000
END:DAYLIGHT
BEGIN:STANDARD
TZOFFSETFROM:+0200
TZOFFSETTO:+0100
TZNAME:CET
DTSTART:20251026T010000
END:STANDARD
BEGIN:DAYLIGHT
TZOFFSETFROM:+0100
TZOFFSETTO:+0200
TZNAME:CEST
DTSTART:20260329T010000
END:DAYLIGHT
BEGIN:STANDARD
TZOFFSETFROM:+0200
TZOFFSETTO:+0100
TZNAME:CET
DTSTART:20261025T010000
END:STANDARD
END:VTIMEZONE
BEGIN:VEVENT
DTSTART;TZID=UTC:20250501T080000
DTEND;TZID=UTC:20250501T170000
DTSTAMP:20260423T211337
CREATED:20250329T135920Z
LAST-MODIFIED:20250329T135920Z
UID:5561-1746086400-1746118800@imlys.nl
SUMMARY:Lys. dicht
DESCRIPTION:
URL:https://imlys.nl/event/lys-dicht/
LOCATION:Lys. Creative Concept Store\, Beekstraat 22B\, Apeldoorn\, Gelderland\, 7311 LG
ORGANIZER;CN="Elysia":MAILTO:info@imlys.nl
END:VEVENT
BEGIN:VEVENT
DTSTART;TZID=Europe/Amsterdam:20250502T100000
DTEND;TZID=Europe/Amsterdam:20250502T170000
DTSTAMP:20260423T211337
CREATED:20250329T140136Z
LAST-MODIFIED:20250416T114121Z
UID:5566-1746180000-1746205200@imlys.nl
SUMMARY:Jewelry Café
DESCRIPTION:
URL:https://imlys.nl/event/jewelry-cafe-12/
LOCATION:Lys. Creative Concept Store\, Beekstraat 22B\, Apeldoorn\, Gelderland\, 7311 LG
CATEGORIES:Jewelry Café
ORGANIZER;CN="Elysia":MAILTO:info@imlys.nl
END:VEVENT
BEGIN:VEVENT
DTSTART;TZID=Europe/Amsterdam:20250503T120000
DTEND;TZID=Europe/Amsterdam:20250503T170000
DTSTAMP:20260423T211337
CREATED:20250416T114313Z
LAST-MODIFIED:20250416T114313Z
UID:5635-1746273600-1746291600@imlys.nl
SUMMARY:Privé workshop (winkel hele dag open)
DESCRIPTION:
URL:https://imlys.nl/event/prive-workshop-winkel-hele-dag-open/
LOCATION:Lys. Creative Concept Store\, Beekstraat 22B\, Apeldoorn\, Gelderland\, 7311 LG
CATEGORIES:Workshops
ORGANIZER;CN="Elysia":MAILTO:info@imlys.nl
END:VEVENT
BEGIN:VEVENT
DTSTART;TZID=UTC:20250504T103000
DTEND;TZID=UTC:20250504T130000
DTSTAMP:20260423T211337
CREATED:20250326T101828Z
LAST-MODIFIED:20250326T101828Z
UID:5492-1746354600-1746363600@imlys.nl
SUMMARY:Workshop 'Verhalen Rijgen'
DESCRIPTION:
URL:https://imlys.nl/event/workshop-verhalen-rijgen-2/
LOCATION:Lys. Creative Concept Store\, Beekstraat 22B\, Apeldoorn\, Gelderland\, 7311 LG
CATEGORIES:Workshops
ORGANIZER;CN="Elysia":MAILTO:info@imlys.nl
END:VEVENT
BEGIN:VEVENT
DTSTART;TZID=UTC:20250507T140000
DTEND;TZID=UTC:20250507T170000
DTSTAMP:20260423T211337
CREATED:20250416T114735Z
LAST-MODIFIED:20250416T114735Z
UID:5637-1746626400-1746637200@imlys.nl
SUMMARY:Kinderfeestje (winkel hele dag open)
DESCRIPTION:
URL:https://imlys.nl/event/kinderfeestje-winkel-hele-dag-open/
LOCATION:Lys. Creative Concept Store\, Beekstraat 22B\, Apeldoorn\, Gelderland\, 7311 LG
CATEGORIES:Workshops
ORGANIZER;CN="Elysia":MAILTO:info@imlys.nl
END:VEVENT
BEGIN:VEVENT
DTSTART;TZID=Europe/Amsterdam:20250509T130000
DTEND;TZID=Europe/Amsterdam:20250509T170000
DTSTAMP:20260423T211337
CREATED:20250415T182202Z
LAST-MODIFIED:20250416T114818Z
UID:5619-1746795600-1746810000@imlys.nl
SUMMARY:Kinderfeestje (winkel hele dag open)
DESCRIPTION:
URL:https://imlys.nl/event/kinderfeestje-2/
LOCATION:Lys. Creative Concept Store\, Beekstraat 22B\, Apeldoorn\, Gelderland\, 7311 LG
CATEGORIES:Workshops
ORGANIZER;CN="Elysia":MAILTO:info@imlys.nl
END:VEVENT
BEGIN:VEVENT
DTSTART;TZID=Europe/Amsterdam:20250509T193000
DTEND;TZID=Europe/Amsterdam:20250509T213000
DTSTAMP:20260423T211337
CREATED:20250415T182102Z
LAST-MODIFIED:20250416T092304Z
UID:5617-1746819000-1746826200@imlys.nl
SUMMARY:Lys. X Cherries on Top
DESCRIPTION:♥️ HARTJESDAG ♥️ \nStel je voor: een gezellige avond  gevuld met geurige taartcreaties\, vrolijke gezichten en de vreugde van het bakken!\nEn misschien zelfs een beetje geknoei (maar hé\, dat hoort erbij).\nBij onze taart workshop ga je leren hoe je de perfecte taart decoreert & ook hoe je hem in een kunstwerk verandert.\nOf je nu een beginnende bakker bent of al ervaring hebt\, deze workshop biedt voor ieder wat wils. \nJe gaat zelf aan de slag met een taart in de vorm van een hart & krijgt stap voor stap begeleiding van een ervaren bakster die haar passie voor taarten met jou deelt. Van het maken van een luchtige biscuit (dmv een recept) tot het vullen en decoreren met kleurrijke botercrème\, alles komt aan bod. \nEn het mooiste? Je mag je eigen meesterwerk mee naar huis nemen om ervan te genieten (of om te showen aan je vrienden en familie!). \nHet is niet alleen een leerzame ervaring\, maar ook een heerlijke manier om tijd door te brengen met vrienden\, familie of collega’s. Dus trek je schort aan\, rol je mouwen op en laat je creativiteit de vrije loop. Wie weet ontdek je wel een verborgen baktalent! \nWanneer: vrijdag 9 mei\nTijd: 19:30 – 21:30\nDuur: 2 uur\nTaart: 4-6 personen\nIncl. onbeperkt koffie\, cappuccino\, thee en uiteraard met een lekkere vers gebakken cupcake!   \n*De workshop gaat door bij 6 deelnemers.
URL:https://imlys.nl/event/lys-x-cherries-on-top/
LOCATION:Lys. Creative Concept Store\, Beekstraat 22B\, Apeldoorn\, Gelderland\, 7311 LG
CATEGORIES:Workshops
ORGANIZER;CN="Elysia":MAILTO:info@imlys.nl
END:VEVENT
BEGIN:VEVENT
DTSTART;TZID=Europe/Amsterdam:20250510T130000
DTEND;TZID=Europe/Amsterdam:20250510T170000
DTSTAMP:20260423T211337
CREATED:20250416T114934Z
LAST-MODIFIED:20250416T114934Z
UID:5640-1746882000-1746896400@imlys.nl
SUMMARY:Kinderfeestje (winkel hele dag open)
DESCRIPTION:
URL:https://imlys.nl/event/kinderfeestje-winkel-hele-dag-open-2/
LOCATION:Lys. Creative Concept Store\, Beekstraat 22B\, Apeldoorn\, Gelderland\, 7311 LG
CATEGORIES:Workshops
ORGANIZER;CN="Elysia":MAILTO:info@imlys.nl
END:VEVENT
BEGIN:VEVENT
DTSTART;TZID=UTC:20250517T103000
DTEND;TZID=UTC:20250517T130000
DTSTAMP:20260423T211337
CREATED:20250326T102332Z
LAST-MODIFIED:20250326T102332Z
UID:5498-1747477800-1747486800@imlys.nl
SUMMARY:Workshop 'Moeders & Dochters'
DESCRIPTION:
URL:https://imlys.nl/event/workshop-moeders-dochters-2/
LOCATION:Lys. Creative Concept Store\, Beekstraat 22B\, Apeldoorn\, Gelderland\, 7311 LG
CATEGORIES:Workshops
ORGANIZER;CN="Elysia":MAILTO:info@imlys.nl
END:VEVENT
BEGIN:VEVENT
DTSTART;TZID=Europe/Amsterdam:20250522T103000
DTEND;TZID=Europe/Amsterdam:20250522T130000
DTSTAMP:20260423T211337
CREATED:20250416T115115Z
LAST-MODIFIED:20250416T115115Z
UID:5642-1747909800-1747918800@imlys.nl
SUMMARY:Workshop Jesmonite
DESCRIPTION:
URL:https://imlys.nl/event/workshop-jesmonite-3/
LOCATION:Lys. Creative Concept Store\, Beekstraat 22B\, Apeldoorn\, Gelderland\, 7311 LG
CATEGORIES:Workshops
ORGANIZER;CN="Elysia":MAILTO:info@imlys.nl
END:VEVENT
BEGIN:VEVENT
DTSTART;TZID=UTC:20250523T100000
DTEND;TZID=UTC:20250523T130000
DTSTAMP:20260423T211337
CREATED:20250523T085200Z
LAST-MODIFIED:20250523T085200Z
UID:5727-1747994400-1748005200@imlys.nl
SUMMARY:Jewelry Café
DESCRIPTION:
URL:https://imlys.nl/event/jewelry-cafe-13/
LOCATION:Lys. Creative Concept Store\, Beekstraat 22B\, Apeldoorn\, Gelderland\, 7311 LG
CATEGORIES:Jewelry Café
ORGANIZER;CN="Elysia":MAILTO:info@imlys.nl
END:VEVENT
BEGIN:VEVENT
DTSTART;TZID=UTC:20250523T130000
DTEND;TZID=UTC:20250523T170000
DTSTAMP:20260423T211337
CREATED:20250416T115150Z
LAST-MODIFIED:20250523T085233Z
UID:5644-1748005200-1748019600@imlys.nl
SUMMARY:Kinderfeestje (winkel hele dag open)
DESCRIPTION:
URL:https://imlys.nl/event/kinderfeestje-winkel-hele-dag-open-3/
LOCATION:Lys. Creative Concept Store\, Beekstraat 22B\, Apeldoorn\, Gelderland\, 7311 LG
CATEGORIES:Workshops
ORGANIZER;CN="Elysia":MAILTO:info@imlys.nl
END:VEVENT
BEGIN:VEVENT
DTSTART;TZID=Europe/Amsterdam:20250524T120000
DTEND;TZID=Europe/Amsterdam:20250524T160000
DTSTAMP:20260423T211337
CREATED:20250416T115248Z
LAST-MODIFIED:20250416T115248Z
UID:5646-1748088000-1748102400@imlys.nl
SUMMARY:Kinderfeestje (winkel hele dag open)
DESCRIPTION:
URL:https://imlys.nl/event/kinderfeestje-winkel-hele-dag-open-4/
LOCATION:Lys. Creative Concept Store\, Beekstraat 22B\, Apeldoorn\, Gelderland\, 7311 LG
CATEGORIES:Workshops
ORGANIZER;CN="Elysia":MAILTO:info@imlys.nl
END:VEVENT
BEGIN:VEVENT
DTSTART;TZID=UTC:20250527T100000
DTEND;TZID=UTC:20250527T140000
DTSTAMP:20260423T211337
CREATED:20250523T085102Z
LAST-MODIFIED:20250523T085102Z
UID:5725-1748340000-1748354400@imlys.nl
SUMMARY:Jewelry Café
DESCRIPTION:
URL:https://imlys.nl/event/jewelry-cafe-11/
LOCATION:Lys. Creative Concept Store\, Beekstraat 22B\, Apeldoorn\, Gelderland\, 7311 LG
CATEGORIES:Jewelry Café
ORGANIZER;CN="Elysia":MAILTO:info@imlys.nl
END:VEVENT
BEGIN:VEVENT
DTSTART;TZID=Europe/Amsterdam:20250528T103000
DTEND;TZID=Europe/Amsterdam:20250528T130000
DTSTAMP:20260423T211337
CREATED:20250416T115353Z
LAST-MODIFIED:20250513T193422Z
UID:5648-1748428200-1748437200@imlys.nl
SUMMARY:Workshop Jesmonite (VOL)
DESCRIPTION:
URL:https://imlys.nl/event/workshop-jesmonite-4/
LOCATION:Lys. Creative Concept Store\, Beekstraat 22B\, Apeldoorn\, Gelderland\, 7311 LG
CATEGORIES:Workshops
ORGANIZER;CN="Elysia":MAILTO:info@imlys.nl
END:VEVENT
BEGIN:VEVENT
DTSTART;TZID=Europe/Amsterdam:20250530T090000
DTEND;TZID=Europe/Amsterdam:20250530T140000
DTSTAMP:20260423T211337
CREATED:20250326T102535Z
LAST-MODIFIED:20250326T102602Z
UID:5500-1748595600-1748613600@imlys.nl
SUMMARY:Creative Friday
DESCRIPTION:
URL:https://imlys.nl/event/creative-friday-3/
LOCATION:Lys. Creative Concept Store\, Beekstraat 22B\, Apeldoorn\, Gelderland\, 7311 LG
CATEGORIES:Creative Friday
ORGANIZER;CN="Elysia":MAILTO:info@imlys.nl
END:VEVENT
BEGIN:VEVENT
DTSTART;VALUE=DATE:20250531
DTEND;VALUE=DATE:20250601
DTSTAMP:20260423T211337
CREATED:20250416T115454Z
LAST-MODIFIED:20250416T115519Z
UID:5650-1748649600-1748735999@imlys.nl
SUMMARY:Kinderfeestje
DESCRIPTION:
URL:https://imlys.nl/event/kinderfeestje-3/
LOCATION:Lys. Creative Concept Store\, Beekstraat 22B\, Apeldoorn\, Gelderland\, 7311 LG
CATEGORIES:Workshops
ORGANIZER;CN="Elysia":MAILTO:info@imlys.nl
END:VEVENT
END:VCALENDAR