BEGIN:VCALENDAR
VERSION:2.0
PRODID:-//I.M.Lys - ECPv6.15.20//NONSGML v1.0//EN
CALSCALE:GREGORIAN
METHOD:PUBLISH
X-ORIGINAL-URL:https://imlys.nl
X-WR-CALDESC:Evenementen voor I.M.Lys
REFRESH-INTERVAL;VALUE=DURATION:PT1H
X-Robots-Tag:noindex
X-PUBLISHED-TTL:PT1H
BEGIN:VTIMEZONE
TZID:UTC
BEGIN:STANDARD
TZOFFSETFROM:+0000
TZOFFSETTO:+0000
TZNAME:UTC
DTSTART:20240101T000000
END:STANDARD
END:VTIMEZONE
BEGIN:VTIMEZONE
TZID:Europe/Amsterdam
BEGIN:DAYLIGHT
TZOFFSETFROM:+0100
TZOFFSETTO:+0200
TZNAME:CEST
DTSTART:20240331T010000
END:DAYLIGHT
BEGIN:STANDARD
TZOFFSETFROM:+0200
TZOFFSETTO:+0100
TZNAME:CET
DTSTART:20241027T010000
END:STANDARD
BEGIN:DAYLIGHT
TZOFFSETFROM:+0100
TZOFFSETTO:+0200
TZNAME:CEST
DTSTART:20250330T010000
END:DAYLIGHT
BEGIN:STANDARD
TZOFFSETFROM:+0200
TZOFFSETTO:+0100
TZNAME:CET
DTSTART:20251026T010000
END:STANDARD
BEGIN:DAYLIGHT
TZOFFSETFROM:+0100
TZOFFSETTO:+0200
TZNAME:CEST
DTSTART:20260329T010000
END:DAYLIGHT
BEGIN:STANDARD
TZOFFSETFROM:+0200
TZOFFSETTO:+0100
TZNAME:CET
DTSTART:20261025T010000
END:STANDARD
END:VTIMEZONE
BEGIN:VEVENT
DTSTART;TZID=UTC:20250408T100000
DTEND;TZID=UTC:20250408T130000
DTSTAMP:20260423T224955
CREATED:20250407T121746Z
LAST-MODIFIED:20250407T121746Z
UID:5599-1744106400-1744117200@imlys.nl
SUMMARY:Jewelry Café
DESCRIPTION:
URL:https://imlys.nl/event/jewelry-cafe/
LOCATION:Lys. Creative Concept Store\, Beekstraat 22B\, Apeldoorn\, Gelderland\, 7311 LG
CATEGORIES:Jewelry Café
ORGANIZER;CN="Elysia":MAILTO:info@imlys.nl
END:VEVENT
BEGIN:VEVENT
DTSTART;TZID=Europe/Amsterdam:20250409T100000
DTEND;TZID=Europe/Amsterdam:20250409T170000
DTSTAMP:20260423T224955
CREATED:20250329T134646Z
LAST-MODIFIED:20250407T121254Z
UID:5538-1744192800-1744218000@imlys.nl
SUMMARY:Jewelry Café
DESCRIPTION:
URL:https://imlys.nl/event/jewelry-cafe-5/
LOCATION:Lys. Creative Concept Store\, Beekstraat 22B\, Apeldoorn\, Gelderland\, 7311 LG
CATEGORIES:Jewelry Café
ORGANIZER;CN="Elysia":MAILTO:info@imlys.nl
END:VEVENT
BEGIN:VEVENT
DTSTART;TZID=UTC:20250410T100000
DTEND;TZID=UTC:20250410T140000
DTSTAMP:20260423T224955
CREATED:20250329T134606Z
LAST-MODIFIED:20250329T140557Z
UID:5536-1744279200-1744293600@imlys.nl
SUMMARY:Jewelry Café
DESCRIPTION:
URL:https://imlys.nl/event/jewelry-cafe-4/
LOCATION:Lys. Creative Concept Store\, Beekstraat 22B\, Apeldoorn\, Gelderland\, 7311 LG
CATEGORIES:Jewelry Café
ORGANIZER;CN="Elysia":MAILTO:info@imlys.nl
END:VEVENT
BEGIN:VEVENT
DTSTART;TZID=Europe/Amsterdam:20250411T103000
DTEND;TZID=Europe/Amsterdam:20250411T130000
DTSTAMP:20260423T224955
CREATED:20250326T100938Z
LAST-MODIFIED:20250326T100938Z
UID:5490-1744367400-1744376400@imlys.nl
SUMMARY:Workshop Jesmonite
DESCRIPTION:Let’s go Jesmonite! Je bent gewaarschuwd… je gaat naar huis met een nieuwe hobby!\nIn 2\,5 uur tijd giet je ongeveer 4/5 accessoires.
URL:https://imlys.nl/event/workshop-jesmonite/
LOCATION:Lys. Creative Concept Store\, Beekstraat 22B\, Apeldoorn\, Gelderland\, 7311 LG
CATEGORIES:Workshops
ORGANIZER;CN="Elysia":MAILTO:info@imlys.nl
END:VEVENT
BEGIN:VEVENT
DTSTART;TZID=UTC:20250411T130000
DTEND;TZID=UTC:20250411T170000
DTSTAMP:20260423T224955
CREATED:20250407T121406Z
LAST-MODIFIED:20250407T121406Z
UID:5596-1744376400-1744390800@imlys.nl
SUMMARY:Kinderfeestje
DESCRIPTION:
URL:https://imlys.nl/event/kinderfeestje/
LOCATION:Lys. Creative Concept Store\, Beekstraat 22B\, Apeldoorn\, Gelderland\, 7311 LG
CATEGORIES:Workshops
ORGANIZER;CN="Elysia":MAILTO:info@imlys.nl
END:VEVENT
BEGIN:VEVENT
DTSTART;TZID=Europe/Amsterdam:20250412T100000
DTEND;TZID=Europe/Amsterdam:20250412T160000
DTSTAMP:20260423T224955
CREATED:20250329T134801Z
LAST-MODIFIED:20250329T134801Z
UID:5540-1744452000-1744473600@imlys.nl
SUMMARY:Jewelry Café
DESCRIPTION:
URL:https://imlys.nl/event/jewelry-cafe-6/
LOCATION:Lys. Creative Concept Store\, Beekstraat 22B\, Apeldoorn\, Gelderland\, 7311 LG
CATEGORIES:Jewelry Café
ORGANIZER;CN="Elysia":MAILTO:info@imlys.nl
END:VEVENT
BEGIN:VEVENT
DTSTART;TZID=Europe/Amsterdam:20250416T100000
DTEND;TZID=Europe/Amsterdam:20250416T170000
DTSTAMP:20260423T224955
CREATED:20250329T134910Z
LAST-MODIFIED:20250329T134910Z
UID:5542-1744797600-1744822800@imlys.nl
SUMMARY:Jewelry Café
DESCRIPTION:
URL:https://imlys.nl/event/jewelry-cafe-7/
LOCATION:Lys. Creative Concept Store\, Beekstraat 22B\, Apeldoorn\, Gelderland\, 7311 LG
CATEGORIES:Jewelry Café
ORGANIZER;CN="Elysia":MAILTO:info@imlys.nl
END:VEVENT
BEGIN:VEVENT
DTSTART;VALUE=DATE:20250417
DTEND;VALUE=DATE:20250418
DTSTAMP:20260423T224955
CREATED:20250329T135043Z
LAST-MODIFIED:20250329T135043Z
UID:5546-1744848000-1744934399@imlys.nl
SUMMARY:Lys. gesloten i.v.m. Koningsspelen
DESCRIPTION:
URL:https://imlys.nl/event/lys-gesloten-i-v-m-koningsspelen/
LOCATION:Lys. Creative Concept Store\, Beekstraat 22B\, Apeldoorn\, Gelderland\, 7311 LG
CATEGORIES:Jewelry Café
ORGANIZER;CN="Elysia":MAILTO:info@imlys.nl
END:VEVENT
BEGIN:VEVENT
DTSTART;TZID=Europe/Amsterdam:20250418T100000
DTEND;TZID=Europe/Amsterdam:20250418T170000
DTSTAMP:20260423T224955
CREATED:20250329T135134Z
LAST-MODIFIED:20250329T135134Z
UID:5548-1744970400-1744995600@imlys.nl
SUMMARY:Jewelry Café
DESCRIPTION:
URL:https://imlys.nl/event/jewelry-cafe-8/
LOCATION:Lys. Creative Concept Store\, Beekstraat 22B\, Apeldoorn\, Gelderland\, 7311 LG
CATEGORIES:Jewelry Café
ORGANIZER;CN="Elysia":MAILTO:info@imlys.nl
END:VEVENT
BEGIN:VEVENT
DTSTART;TZID=Europe/Amsterdam:20250419T100000
DTEND;TZID=Europe/Amsterdam:20250419T160000
DTSTAMP:20260423T224955
CREATED:20250329T135236Z
LAST-MODIFIED:20250407T121446Z
UID:5550-1745056800-1745078400@imlys.nl
SUMMARY:Jewelry Café
DESCRIPTION:
URL:https://imlys.nl/event/jelwelry-cafe/
LOCATION:Lys. Creative Concept Store\, Beekstraat 22B\, Apeldoorn\, Gelderland\, 7311 LG
CATEGORIES:Jewelry Café
ORGANIZER;CN="Elysia":MAILTO:info@imlys.nl
END:VEVENT
BEGIN:VEVENT
DTSTART;TZID=UTC:20250422T100000
DTEND;TZID=UTC:20250422T140000
DTSTAMP:20260423T224955
CREATED:20250329T135320Z
LAST-MODIFIED:20250409T133043Z
UID:5553-1745316000-1745330400@imlys.nl
SUMMARY:Jewelry Café
DESCRIPTION:
URL:https://imlys.nl/event/lys-gesloten/
LOCATION:Lys. Creative Concept Store\, Beekstraat 22B\, Apeldoorn\, Gelderland\, 7311 LG
CATEGORIES:Jewelry Café
ORGANIZER;CN="Elysia":MAILTO:info@imlys.nl
END:VEVENT
BEGIN:VEVENT
DTSTART;TZID=UTC:20250423T080000
DTEND;TZID=UTC:20250423T170000
DTSTAMP:20260423T224955
CREATED:20250329T135408Z
LAST-MODIFIED:20250329T135408Z
UID:5555-1745395200-1745427600@imlys.nl
SUMMARY:Jewelry Café
DESCRIPTION:
URL:https://imlys.nl/event/jewelry-cafe-9/
LOCATION:Lys. Creative Concept Store\, Beekstraat 22B\, Apeldoorn\, Gelderland\, 7311 LG
CATEGORIES:Jewelry Café
ORGANIZER;CN="Elysia":MAILTO:info@imlys.nl
END:VEVENT
BEGIN:VEVENT
DTSTART;VALUE=DATE:20250424
DTEND;VALUE=DATE:20250425
DTSTAMP:20260423T224955
CREATED:20250416T113542Z
LAST-MODIFIED:20250416T113542Z
UID:5629-1745452800-1745539199@imlys.nl
SUMMARY:Lys. gesloten
DESCRIPTION:
URL:https://imlys.nl/event/lys-gesloten-2/
LOCATION:Lys. Creative Concept Store\, Beekstraat 22B\, Apeldoorn\, Gelderland\, 7311 LG
CATEGORIES:Jewelry Café
ORGANIZER;CN="Elysia":MAILTO:info@imlys.nl
END:VEVENT
BEGIN:VEVENT
DTSTART;TZID=UTC:20250425T090000
DTEND;TZID=UTC:20250425T130000
DTSTAMP:20260423T224955
CREATED:20250326T102029Z
LAST-MODIFIED:20250326T111943Z
UID:5494-1745571600-1745586000@imlys.nl
SUMMARY:Creative Friday
DESCRIPTION:
URL:https://imlys.nl/event/creative-friday-2/
LOCATION:Lys. Creative Concept Store\, Beekstraat 22B\, Apeldoorn\, Gelderland\, 7311 LG
CATEGORIES:Creative Friday
ORGANIZER;CN="Elysia":MAILTO:info@imlys.nl
END:VEVENT
BEGIN:VEVENT
DTSTART;TZID=Europe/Amsterdam:20250425T100000
DTEND;TZID=Europe/Amsterdam:20250425T170000
DTSTAMP:20260423T224955
CREATED:20250329T135633Z
LAST-MODIFIED:20250329T135633Z
UID:5557-1745575200-1745600400@imlys.nl
SUMMARY:Jewelry Café
DESCRIPTION:
URL:https://imlys.nl/event/jewelry-cafe-10/
LOCATION:Lys. Creative Concept Store\, Beekstraat 22B\, Apeldoorn\, Gelderland\, 7311 LG
CATEGORIES:Jewelry Café
ORGANIZER;CN="Elysia":MAILTO:info@imlys.nl
END:VEVENT
BEGIN:VEVENT
DTSTART;TZID=Europe/Amsterdam:20250426T100000
DTEND;TZID=Europe/Amsterdam:20250426T150000
DTSTAMP:20260423T224955
CREATED:20250329T135720Z
LAST-MODIFIED:20250329T135720Z
UID:5559-1745661600-1745679600@imlys.nl
SUMMARY:Koningsdag
DESCRIPTION:
URL:https://imlys.nl/event/koningsdag/
LOCATION:Lys. Creative Concept Store\, Beekstraat 22B\, Apeldoorn\, Gelderland\, 7311 LG
ORGANIZER;CN="Elysia":MAILTO:info@imlys.nl
END:VEVENT
BEGIN:VEVENT
DTSTART;TZID=Europe/Amsterdam:20250429T100000
DTEND;TZID=Europe/Amsterdam:20250429T140000
DTSTAMP:20260423T224955
CREATED:20250416T113753Z
LAST-MODIFIED:20250416T113753Z
UID:5631-1745920800-1745935200@imlys.nl
SUMMARY:Jewelry Café
DESCRIPTION:
URL:https://imlys.nl/event/jewelry-cafe-2/
LOCATION:Lys. Creative Concept Store\, Beekstraat 22B\, Apeldoorn\, Gelderland\, 7311 LG
ORGANIZER;CN="Elysia":MAILTO:info@imlys.nl
END:VEVENT
BEGIN:VEVENT
DTSTART;TZID=Europe/Amsterdam:20250430T100000
DTEND;TZID=Europe/Amsterdam:20250430T170000
DTSTAMP:20260423T224955
CREATED:20250427T113804Z
LAST-MODIFIED:20250427T113804Z
UID:5695-1746007200-1746032400@imlys.nl
SUMMARY:Jewelry Café
DESCRIPTION:
URL:https://imlys.nl/event/jewelry-cafe-3/
LOCATION:Lys. Creative Concept Store\, Beekstraat 22B\, Apeldoorn\, Gelderland\, 7311 LG
CATEGORIES:Jewelry Café
ORGANIZER;CN="Elysia":MAILTO:info@imlys.nl
END:VEVENT
END:VCALENDAR