BEGIN:VCALENDAR
VERSION:2.0
PRODID:-//I.M.Lys - ECPv6.15.20//NONSGML v1.0//EN
CALSCALE:GREGORIAN
METHOD:PUBLISH
X-ORIGINAL-URL:https://imlys.nl
X-WR-CALDESC:Evenementen voor I.M.Lys
REFRESH-INTERVAL;VALUE=DURATION:PT1H
X-Robots-Tag:noindex
X-PUBLISHED-TTL:PT1H
BEGIN:VTIMEZONE
TZID:Europe/Amsterdam
BEGIN:DAYLIGHT
TZOFFSETFROM:+0100
TZOFFSETTO:+0200
TZNAME:CEST
DTSTART:20240331T010000
END:DAYLIGHT
BEGIN:STANDARD
TZOFFSETFROM:+0200
TZOFFSETTO:+0100
TZNAME:CET
DTSTART:20241027T010000
END:STANDARD
BEGIN:DAYLIGHT
TZOFFSETFROM:+0100
TZOFFSETTO:+0200
TZNAME:CEST
DTSTART:20250330T010000
END:DAYLIGHT
BEGIN:STANDARD
TZOFFSETFROM:+0200
TZOFFSETTO:+0100
TZNAME:CET
DTSTART:20251026T010000
END:STANDARD
BEGIN:DAYLIGHT
TZOFFSETFROM:+0100
TZOFFSETTO:+0200
TZNAME:CEST
DTSTART:20260329T010000
END:DAYLIGHT
BEGIN:STANDARD
TZOFFSETFROM:+0200
TZOFFSETTO:+0100
TZNAME:CET
DTSTART:20261025T010000
END:STANDARD
END:VTIMEZONE
BEGIN:VEVENT
DTSTART;TZID=Europe/Amsterdam:20251213T100000
DTEND;TZID=Europe/Amsterdam:20251214T170000
DTSTAMP:20260423T211446
CREATED:20251014T075108Z
LAST-MODIFIED:20251014T075109Z
UID:6727-1765620000-1765731600@imlys.nl
SUMMARY:Kerstmarkt & Meer @ Lys.
DESCRIPTION:
URL:https://imlys.nl/event/kerstmarkt-meer-lys/
LOCATION:Lys. Creative Concept Store\, Beekstraat 22B\, Apeldoorn\, Gelderland\, 7311 LG
CATEGORIES:Specials
ORGANIZER;CN="Elysia":MAILTO:info@imlys.nl
END:VEVENT
END:VCALENDAR